BEGIN:VCALENDAR
VERSION:2.0
PRODID:-//jEvents 2.0 for Joomla//EN
CALSCALE:GREGORIAN
METHOD:PUBLISH
BEGIN:VTIMEZONE
TZID:Europe/Amsterdam
BEGIN:STANDARD
DTSTART:20231029T020000
RDATE:20240331T030000
TZOFFSETFROM:+0200
TZOFFSETTO:+0100
TZNAME:Europe/Amsterdam CET
END:STANDARD
BEGIN:STANDARD
DTSTART:20241027T020000
RDATE:20250330T030000
TZOFFSETFROM:+0200
TZOFFSETTO:+0100
TZNAME:Europe/Amsterdam CET
END:STANDARD
BEGIN:STANDARD
DTSTART:20251026T020000
RDATE:20260329T030000
TZOFFSETFROM:+0200
TZOFFSETTO:+0100
TZNAME:Europe/Amsterdam CET
END:STANDARD
BEGIN:STANDARD
DTSTART:20261025T020000
RDATE:20270328T030000
TZOFFSETFROM:+0200
TZOFFSETTO:+0100
TZNAME:Europe/Amsterdam CET
END:STANDARD
BEGIN:STANDARD
DTSTART:20271031T020000
RDATE:20280326T030000
TZOFFSETFROM:+0200
TZOFFSETTO:+0100
TZNAME:Europe/Amsterdam CET
END:STANDARD
BEGIN:STANDARD
DTSTART:20281029T020000
RDATE:20290325T030000
TZOFFSETFROM:+0200
TZOFFSETTO:+0100
TZNAME:Europe/Amsterdam CET
END:STANDARD
BEGIN:DAYLIGHT
DTSTART:20230406T110000
RDATE:20231029T020000
TZOFFSETFROM:+0100
TZOFFSETTO:+0200
TZNAME:Europe/Amsterdam CEST
END:DAYLIGHT
BEGIN:DAYLIGHT
DTSTART:20240331T030000
RDATE:20241027T020000
TZOFFSETFROM:+0100
TZOFFSETTO:+0200
TZNAME:Europe/Amsterdam CEST
END:DAYLIGHT
BEGIN:DAYLIGHT
DTSTART:20250330T030000
RDATE:20251026T020000
TZOFFSETFROM:+0100
TZOFFSETTO:+0200
TZNAME:Europe/Amsterdam CEST
END:DAYLIGHT
BEGIN:DAYLIGHT
DTSTART:20260329T030000
RDATE:20261025T020000
TZOFFSETFROM:+0100
TZOFFSETTO:+0200
TZNAME:Europe/Amsterdam CEST
END:DAYLIGHT
BEGIN:DAYLIGHT
DTSTART:20270328T030000
RDATE:20271031T020000
TZOFFSETFROM:+0100
TZOFFSETTO:+0200
TZNAME:Europe/Amsterdam CEST
END:DAYLIGHT
BEGIN:DAYLIGHT
DTSTART:20280326T030000
RDATE:20281029T020000
TZOFFSETFROM:+0100
TZOFFSETTO:+0200
TZNAME:Europe/Amsterdam CEST
END:DAYLIGHT
END:VTIMEZONE
BEGIN:VEVENT
UID:2ca320f62c94030098020fb71b22ab19
CATEGORIES:Algemeen
CREATED:20231224T165549
SUMMARY:Open dag
URL;VALUE=URI:https://mail.scoutingstjan.nl/index.php/agenda/evenementdetail/296/-/open-d
 ag?tmpl=component
DESCRIPTION:Op zaterdag 6 april tussen 11:00 &amp; 16:00 \nuur organiseren we weer een 
 opendag.\nDe normale draaitijden komen te vervallen maar iedereen is natuur
 lijk van harte welkom.\nLoop gerust binnen om kennis te maken met onze scou
 tinggroep.\nNeem je vriendjes &amp; vriendinnetjes, je ouders mee en geniet
  van het programma op deze dag.\n This event was imported from: https://mai
 l.scoutingstjan.nl/index.php/agenda/evenementdetail/296/-/open-dag?tmpl=com
 ponent (https://mail.scoutingstjan.nl/index.php/agenda/evenementdetail/296/
 -/open-dag?tmpl=component)
X-ALT-DESC;FMTTYPE=text/html:<p>Op zaterdag 6 april tussen 11:00 &amp; 16:00 <br />uur organiseren we we
 er een opendag.</p><p>De normale draaitijden komen te vervallen maar iedere
 en is natuurlijk van harte welkom.</p><p>Loop gerust binnen om kennis te ma
 ken met onze scoutinggroep.</p><p>Neem je vriendjes &amp; vriendinnetjes, j
 e ouders mee en geniet van het programma op deze dag.</p> <a href="https://
 mail.scoutingstjan.nl/index.php/agenda/evenementdetail/296/-/open-dag?tmpl=
 component">This event was imported from: https://mail.scoutingstjan.nl/inde
 x.php/agenda/evenementdetail/296/-/open-dag?tmpl=component</a>DTSTAMP:20260423T101646
DTSTART;TZID=Europe/Amsterdam:20240406T110000
DTEND;TZID=Europe/Amsterdam:20240406T160000
SEQUENCE:0
TRANSP:OPAQUE
END:VEVENT
END:VCALENDAR