BEGIN:VCALENDAR
VERSION:2.0
PRODID:-//jEvents 2.0 for Joomla//EN
CALSCALE:GREGORIAN
METHOD:PUBLISH
BEGIN:VTIMEZONE
TZID:Europe/Amsterdam
BEGIN:STANDARD
DTSTART:20231029T020000
RDATE:20240331T030000
TZOFFSETFROM:+0200
TZOFFSETTO:+0100
TZNAME:Europe/Amsterdam CET
END:STANDARD
BEGIN:STANDARD
DTSTART:20241027T020000
RDATE:20250330T030000
TZOFFSETFROM:+0200
TZOFFSETTO:+0100
TZNAME:Europe/Amsterdam CET
END:STANDARD
BEGIN:STANDARD
DTSTART:20251026T020000
RDATE:20260329T030000
TZOFFSETFROM:+0200
TZOFFSETTO:+0100
TZNAME:Europe/Amsterdam CET
END:STANDARD
BEGIN:STANDARD
DTSTART:20261025T020000
RDATE:20270328T030000
TZOFFSETFROM:+0200
TZOFFSETTO:+0100
TZNAME:Europe/Amsterdam CET
END:STANDARD
BEGIN:STANDARD
DTSTART:20271031T020000
RDATE:20280326T030000
TZOFFSETFROM:+0200
TZOFFSETTO:+0100
TZNAME:Europe/Amsterdam CET
END:STANDARD
BEGIN:STANDARD
DTSTART:20281029T020000
RDATE:20290325T030000
TZOFFSETFROM:+0200
TZOFFSETTO:+0100
TZNAME:Europe/Amsterdam CET
END:STANDARD
BEGIN:DAYLIGHT
DTSTART:20230504T193000
RDATE:20231029T020000
TZOFFSETFROM:+0100
TZOFFSETTO:+0200
TZNAME:Europe/Amsterdam CEST
END:DAYLIGHT
BEGIN:DAYLIGHT
DTSTART:20240331T030000
RDATE:20241027T020000
TZOFFSETFROM:+0100
TZOFFSETTO:+0200
TZNAME:Europe/Amsterdam CEST
END:DAYLIGHT
BEGIN:DAYLIGHT
DTSTART:20250330T030000
RDATE:20251026T020000
TZOFFSETFROM:+0100
TZOFFSETTO:+0200
TZNAME:Europe/Amsterdam CEST
END:DAYLIGHT
BEGIN:DAYLIGHT
DTSTART:20260329T030000
RDATE:20261025T020000
TZOFFSETFROM:+0100
TZOFFSETTO:+0200
TZNAME:Europe/Amsterdam CEST
END:DAYLIGHT
BEGIN:DAYLIGHT
DTSTART:20270328T030000
RDATE:20271031T020000
TZOFFSETFROM:+0100
TZOFFSETTO:+0200
TZNAME:Europe/Amsterdam CEST
END:DAYLIGHT
BEGIN:DAYLIGHT
DTSTART:20280326T030000
RDATE:20281029T020000
TZOFFSETFROM:+0100
TZOFFSETTO:+0200
TZNAME:Europe/Amsterdam CEST
END:DAYLIGHT
END:VTIMEZONE
BEGIN:VEVENT
UID:96d6fc7aaaa6c6d6f9fc67fef2d6874a
CATEGORIES:Verkenners
CREATED:20231224T165549
SUMMARY:Dodenherdenking Verkenners
URL;VALUE=URI:https://mail.scoutingstjan.nl/index.php/agenda/evenementdetail/300/-/dodenh
 erdenking-verkenners?tmpl=component
DESCRIPTION:Ieder jaar op 4 mei worden de doden uit de tweede wereldoorlog herdacht (of
  naar persoonlijke invulling andere oorlogsslachtoffers).\nHiervoor worden 
 ieder jaar onder andere de scoutinggroepen uit Roosendaal door onze Roosend
 aalse burgemeester uitgenodigd, om bij deze herdenking aanwezig te zijn.\n 
 \nVoor scouting St. Jan is het de gewoonte dat er ieder jaar een andere spe
 ltak naar toe gaat. Dit jaar worden de verkenners afgevaardigd, om namens o
 nze scoutinggroep daar aanwezig te zijn.\n \nWij als verkennerstaf verwacht
 en jullie 15 minuten voor de herdenking en dat is dus om 19.30 uur, bij het
  monument in de Parklaan.\nWe verzamelen ons bij het Norbertuscollege.\n Th
 is event was imported from: https://mail.scoutingstjan.nl/index.php/agenda/
 evenementdetail/300/-/dodenherdenking-verkenners?tmpl=component (https://ma
 il.scoutingstjan.nl/index.php/agenda/evenementdetail/300/-/dodenherdenking-
 verkenners?tmpl=component)
X-ALT-DESC;FMTTYPE=text/html:<p>Ieder jaar op 4 mei worden de doden uit de tweede wereldoorlog herdacht 
 (of naar persoonlijke invulling andere oorlogsslachtoffers).</p><p>Hiervoor
  worden ieder jaar onder andere de scoutinggroepen uit Roosendaal door onze
  Roosendaalse burgemeester uitgenodigd, om bij deze herdenking aanwezig te 
 zijn.</p><p> </p><p>Voor scouting St. Jan is het de gewoonte dat er ieder j
 aar een andere speltak naar toe gaat. Dit jaar worden de verkenners afgevaa
 rdigd, om namens onze scoutinggroep daar aanwezig te zijn.</p><p> </p><p>Wi
 j als verkennerstaf verwachten jullie 15 minuten voor de herdenking en dat 
 is dus om 19.30 uur, bij het monument in de Parklaan.</p><p>We verzamelen o
 ns bij het Norbertuscollege.</p> <a href="https://mail.scoutingstjan.nl/ind
 ex.php/agenda/evenementdetail/300/-/dodenherdenking-verkenners?tmpl=compone
 nt">This event was imported from: https://mail.scoutingstjan.nl/index.php/a
 genda/evenementdetail/300/-/dodenherdenking-verkenners?tmpl=component</a>X-EXTRAINFO:Brieven (/index.php/downloads/category/5-brieven)\nBrieven vind je hier (mi
 ts ingelogd)
DTSTAMP:20260423T120523
DTSTART;TZID=Europe/Amsterdam:20240504T193000
SEQUENCE:0
TRANSP:OPAQUE
END:VEVENT
END:VCALENDAR