BEGIN:VCALENDAR
VERSION:2.0
PRODID:-//jEvents 2.0 for Joomla//EN
CALSCALE:GREGORIAN
METHOD:PUBLISH
BEGIN:VTIMEZONE
TZID:Europe/Amsterdam
BEGIN:STANDARD
DTSTART:20231029T020000
RDATE:20240331T030000
TZOFFSETFROM:+0200
TZOFFSETTO:+0100
TZNAME:Europe/Amsterdam CET
END:STANDARD
BEGIN:STANDARD
DTSTART:20241027T020000
RDATE:20250330T030000
TZOFFSETFROM:+0200
TZOFFSETTO:+0100
TZNAME:Europe/Amsterdam CET
END:STANDARD
BEGIN:STANDARD
DTSTART:20251026T020000
RDATE:20260329T030000
TZOFFSETFROM:+0200
TZOFFSETTO:+0100
TZNAME:Europe/Amsterdam CET
END:STANDARD
BEGIN:STANDARD
DTSTART:20261025T020000
RDATE:20270328T030000
TZOFFSETFROM:+0200
TZOFFSETTO:+0100
TZNAME:Europe/Amsterdam CET
END:STANDARD
BEGIN:STANDARD
DTSTART:20271031T020000
RDATE:20280326T030000
TZOFFSETFROM:+0200
TZOFFSETTO:+0100
TZNAME:Europe/Amsterdam CET
END:STANDARD
BEGIN:STANDARD
DTSTART:20281029T020000
RDATE:20290325T030000
TZOFFSETFROM:+0200
TZOFFSETTO:+0100
TZNAME:Europe/Amsterdam CET
END:STANDARD
BEGIN:DAYLIGHT
DTSTART:20230608T130000
RDATE:20231029T020000
TZOFFSETFROM:+0100
TZOFFSETTO:+0200
TZNAME:Europe/Amsterdam CEST
END:DAYLIGHT
BEGIN:DAYLIGHT
DTSTART:20240331T030000
RDATE:20241027T020000
TZOFFSETFROM:+0100
TZOFFSETTO:+0200
TZNAME:Europe/Amsterdam CEST
END:DAYLIGHT
BEGIN:DAYLIGHT
DTSTART:20250330T030000
RDATE:20251026T020000
TZOFFSETFROM:+0100
TZOFFSETTO:+0200
TZNAME:Europe/Amsterdam CEST
END:DAYLIGHT
BEGIN:DAYLIGHT
DTSTART:20260329T030000
RDATE:20261025T020000
TZOFFSETFROM:+0100
TZOFFSETTO:+0200
TZNAME:Europe/Amsterdam CEST
END:DAYLIGHT
BEGIN:DAYLIGHT
DTSTART:20270328T030000
RDATE:20271031T020000
TZOFFSETFROM:+0100
TZOFFSETTO:+0200
TZNAME:Europe/Amsterdam CEST
END:DAYLIGHT
BEGIN:DAYLIGHT
DTSTART:20280326T030000
RDATE:20281029T020000
TZOFFSETFROM:+0100
TZOFFSETTO:+0200
TZNAME:Europe/Amsterdam CEST
END:DAYLIGHT
END:VTIMEZONE
BEGIN:VEVENT
UID:ea59e58591784d7a7ad93950912b5890
CATEGORIES:Algemeen
CREATED:20231224T165549
SUMMARY:Financiële actie
URL;VALUE=URI:https://mail.scoutingstjan.nl/index.php/agenda/evenementdetail/307/-/financ
 iele-actie?tmpl=component
DESCRIPTION:Ook dit jaar hebben wij weer een fantastisch event op de planning staan. Op
  zaterdag 8 juni is het zover! Onze eigen St. Jan Kermis opent zijn deuren!
 \nWij streven ernaar om met de scouting laagdrempelig te zijn en de contrib
 utie zo laag mogelijk te houden. Helaas gaan de kosten ieder jaar verder om
 hoog. Daarom zijn wij genoodzaakt een jaarlijkse financiële activiteit te o
 rganiseren om de club draaiende te kunnen houden. Dit uiteraard wel met een
  tof event waar jij/vriendjes/vriendinnetjes/familie/etc. van harte welkom 
 zijn!\nOnze kermis zal opengaan om 13:00 met volop plezier voor jong en oud
 ! Vanaf 16:00 zal een gezellige bingo/prijzenpaleis geopend worden met fant
 astisch mooie prijzen. Je kan ter plaatse bingokaarten kopen voor deze bing
 o.\nLet op: Voor deze dag komen de normale draaitijden te vervallen. \n Thi
 s event was imported from: https://mail.scoutingstjan.nl/index.php/agenda/e
 venementdetail/307/-/financiele-actie?tmpl=component (https://mail.scouting
 stjan.nl/index.php/agenda/evenementdetail/307/-/financiele-actie?tmpl=compo
 nent)
X-ALT-DESC;FMTTYPE=text/html:<p>Ook dit jaar hebben wij weer een fantastisch event op de planning staan.
  Op zaterdag 8 juni is het zover! Onze eigen St. Jan Kermis opent zijn deur
 en!</p><p>Wij streven ernaar om met de scouting laagdrempelig te zijn en de
  contributie zo laag mogelijk te houden. Helaas gaan de kosten ieder jaar v
 erder omhoog. Daarom zijn wij genoodzaakt een jaarlijkse financiële activit
 eit te organiseren om de club draaiende te kunnen houden. Dit uiteraard wel
  met een tof event waar jij/vriendjes/vriendinnetjes/familie/etc. van harte
  welkom zijn!</p><p>Onze kermis zal opengaan om 13:00 met volop plezier voo
 r jong en oud! Vanaf 16:00 zal een gezellige bingo/prijzenpaleis geopend wo
 rden met fantastisch mooie prijzen. Je kan ter plaatse bingokaarten kopen v
 oor deze bingo.</p><p>Let op: Voor deze dag komen de normale draaitijden te
  vervallen. </p> <a href="https://mail.scoutingstjan.nl/index.php/agenda/ev
 enementdetail/307/-/financiele-actie?tmpl=component">This event was importe
 d from: https://mail.scoutingstjan.nl/index.php/agenda/evenementdetail/307/
 -/financiele-actie?tmpl=component</a>DTSTAMP:20260423T194719
DTSTART;TZID=Europe/Amsterdam:20240608T130000
SEQUENCE:0
TRANSP:OPAQUE
END:VEVENT
END:VCALENDAR