BEGIN:VCALENDAR
VERSION:2.0
PRODID:-//jEvents 2.0 for Joomla//EN
CALSCALE:GREGORIAN
METHOD:PUBLISH
BEGIN:VTIMEZONE
TZID:Europe/Amsterdam
BEGIN:STANDARD
DTSTART:20231029T020000
RDATE:20240331T030000
TZOFFSETFROM:+0200
TZOFFSETTO:+0100
TZNAME:Europe/Amsterdam CET
END:STANDARD
BEGIN:STANDARD
DTSTART:20241027T020000
RDATE:20250330T030000
TZOFFSETFROM:+0200
TZOFFSETTO:+0100
TZNAME:Europe/Amsterdam CET
END:STANDARD
BEGIN:STANDARD
DTSTART:20251026T020000
RDATE:20260329T030000
TZOFFSETFROM:+0200
TZOFFSETTO:+0100
TZNAME:Europe/Amsterdam CET
END:STANDARD
BEGIN:STANDARD
DTSTART:20261025T020000
RDATE:20270328T030000
TZOFFSETFROM:+0200
TZOFFSETTO:+0100
TZNAME:Europe/Amsterdam CET
END:STANDARD
BEGIN:STANDARD
DTSTART:20271031T020000
RDATE:20280326T030000
TZOFFSETFROM:+0200
TZOFFSETTO:+0100
TZNAME:Europe/Amsterdam CET
END:STANDARD
BEGIN:STANDARD
DTSTART:20281029T020000
RDATE:20290325T030000
TZOFFSETFROM:+0200
TZOFFSETTO:+0100
TZNAME:Europe/Amsterdam CET
END:STANDARD
BEGIN:DAYLIGHT
DTSTART:20230504T193000
RDATE:20231029T020000
TZOFFSETFROM:+0100
TZOFFSETTO:+0200
TZNAME:Europe/Amsterdam CEST
END:DAYLIGHT
BEGIN:DAYLIGHT
DTSTART:20240331T030000
RDATE:20241027T020000
TZOFFSETFROM:+0100
TZOFFSETTO:+0200
TZNAME:Europe/Amsterdam CEST
END:DAYLIGHT
BEGIN:DAYLIGHT
DTSTART:20250330T030000
RDATE:20251026T020000
TZOFFSETFROM:+0100
TZOFFSETTO:+0200
TZNAME:Europe/Amsterdam CEST
END:DAYLIGHT
BEGIN:DAYLIGHT
DTSTART:20260329T030000
RDATE:20261025T020000
TZOFFSETFROM:+0100
TZOFFSETTO:+0200
TZNAME:Europe/Amsterdam CEST
END:DAYLIGHT
BEGIN:DAYLIGHT
DTSTART:20270328T030000
RDATE:20271031T020000
TZOFFSETFROM:+0100
TZOFFSETTO:+0200
TZNAME:Europe/Amsterdam CEST
END:DAYLIGHT
BEGIN:DAYLIGHT
DTSTART:20280326T030000
RDATE:20281029T020000
TZOFFSETFROM:+0100
TZOFFSETTO:+0200
TZNAME:Europe/Amsterdam CEST
END:DAYLIGHT
END:VTIMEZONE
BEGIN:VEVENT
UID:168acbbf6851a591f60cbdbb35d3b315
CATEGORIES:Luchtverkenners
CREATED:20240420T010857
SUMMARY:Dodenherdenking Luchtverkenners
URL;VALUE=URI:https://mail.scoutingstjan.nl/index.php/agenda/evenementdetail/343/-/dodenh
 erdenking-luchtverkenners?tmpl=component
DESCRIPTION:Ieder jaar op 4 mei worden de doden uit de tweede wereldoorlog herdacht (of
  naar persoonlijke invulling andere oorlogsslachtoffers).\nHiervoor worden 
 ieder jaar onder andere de scoutinggroepen uit Roosendaal door onze Roosend
 aalse burgemeester uitgenodigd, om bij deze herdenking aanwezig te zijn.\n 
 \nVoor scouting St. Jan is het de gewoonte dat er ieder jaar een andere spe
 ltak naar toe gaat. Dit jaar worden de luchtverkenners afgevaardigd, om nam
 ens onze scoutinggroep daar aanwezig te zijn.\n \nWij als luchtverkennersta
 f verwachten de luchtverkenners 15 minuten voor de herdenking en dat is dus
  om 19.30 uur, bij het monument in de Parklaan.\nWe verzamelen ons bij het 
 Norbertuscollege.\n This event was imported from: https://mail.scoutingstja
 n.nl/index.php/agenda/evenementdetail/343/-/dodenherdenking-luchtverkenners
 ?tmpl=component (https://mail.scoutingstjan.nl/index.php/agenda/evenementde
 tail/343/-/dodenherdenking-luchtverkenners?tmpl=component)
X-ALT-DESC;FMTTYPE=text/html:<p>Ieder jaar op 4 mei worden de doden uit de tweede wereldoorlog herdacht 
 (of naar persoonlijke invulling andere oorlogsslachtoffers).</p><p>Hiervoor
  worden ieder jaar onder andere de scoutinggroepen uit Roosendaal door onze
  Roosendaalse burgemeester uitgenodigd, om bij deze herdenking aanwezig te 
 zijn.</p><p> </p><p>Voor scouting St. Jan is het de gewoonte dat er ieder j
 aar een andere speltak naar toe gaat. Dit jaar worden de luchtverkenners af
 gevaardigd, om namens onze scoutinggroep daar aanwezig te zijn.</p><p> </p>
 <p>Wij als luchtverkennerstaf verwachten de luchtverkenners 15 minuten voor
  de herdenking en dat is dus om 19.30 uur, bij het monument in de Parklaan.
 </p><p>We verzamelen ons bij het Norbertuscollege.</p> <a href="https://mai
 l.scoutingstjan.nl/index.php/agenda/evenementdetail/343/-/dodenherdenking-l
 uchtverkenners?tmpl=component">This event was imported from: https://mail.s
 coutingstjan.nl/index.php/agenda/evenementdetail/343/-/dodenherdenking-luch
 tverkenners?tmpl=component</a>X-EXTRAINFO:Brieven (/index.php/downloads/category/5-brieven)\nBrieven vind je hier (mi
 ts ingelogd)
DTSTAMP:20260423T120524
DTSTART;TZID=Europe/Amsterdam:20240504T193000
SEQUENCE:0
TRANSP:OPAQUE
END:VEVENT
END:VCALENDAR