BEGIN:VCALENDAR
VERSION:2.0
PRODID:-//jEvents 2.0 for Joomla//EN
CALSCALE:GREGORIAN
METHOD:PUBLISH
BEGIN:VTIMEZONE
TZID:Europe/Amsterdam
BEGIN:STANDARD
DTSTART:20231029T020000
RDATE:20240331T030000
TZOFFSETFROM:+0200
TZOFFSETTO:+0100
TZNAME:Europe/Amsterdam CET
END:STANDARD
BEGIN:STANDARD
DTSTART:20241027T020000
RDATE:20250330T030000
TZOFFSETFROM:+0200
TZOFFSETTO:+0100
TZNAME:Europe/Amsterdam CET
END:STANDARD
BEGIN:STANDARD
DTSTART:20251026T020000
RDATE:20260329T030000
TZOFFSETFROM:+0200
TZOFFSETTO:+0100
TZNAME:Europe/Amsterdam CET
END:STANDARD
BEGIN:STANDARD
DTSTART:20261025T020000
RDATE:20270328T030000
TZOFFSETFROM:+0200
TZOFFSETTO:+0100
TZNAME:Europe/Amsterdam CET
END:STANDARD
BEGIN:STANDARD
DTSTART:20271031T020000
RDATE:20280326T030000
TZOFFSETFROM:+0200
TZOFFSETTO:+0100
TZNAME:Europe/Amsterdam CET
END:STANDARD
BEGIN:STANDARD
DTSTART:20281029T020000
RDATE:20290325T030000
TZOFFSETFROM:+0200
TZOFFSETTO:+0100
TZNAME:Europe/Amsterdam CET
END:STANDARD
BEGIN:DAYLIGHT
DTSTART:20230525T130000
RDATE:20231029T020000
TZOFFSETFROM:+0100
TZOFFSETTO:+0200
TZNAME:Europe/Amsterdam CEST
END:DAYLIGHT
BEGIN:DAYLIGHT
DTSTART:20240331T030000
RDATE:20241027T020000
TZOFFSETFROM:+0100
TZOFFSETTO:+0200
TZNAME:Europe/Amsterdam CEST
END:DAYLIGHT
BEGIN:DAYLIGHT
DTSTART:20250330T030000
RDATE:20251026T020000
TZOFFSETFROM:+0100
TZOFFSETTO:+0200
TZNAME:Europe/Amsterdam CEST
END:DAYLIGHT
BEGIN:DAYLIGHT
DTSTART:20260329T030000
RDATE:20261025T020000
TZOFFSETFROM:+0100
TZOFFSETTO:+0200
TZNAME:Europe/Amsterdam CEST
END:DAYLIGHT
BEGIN:DAYLIGHT
DTSTART:20270328T030000
RDATE:20271031T020000
TZOFFSETFROM:+0100
TZOFFSETTO:+0200
TZNAME:Europe/Amsterdam CEST
END:DAYLIGHT
BEGIN:DAYLIGHT
DTSTART:20280326T030000
RDATE:20281029T020000
TZOFFSETFROM:+0100
TZOFFSETTO:+0200
TZNAME:Europe/Amsterdam CEST
END:DAYLIGHT
END:VTIMEZONE
BEGIN:VEVENT
UID:c5880bad6c40a354919feea4b824788c
CATEGORIES:Algemeen
CREATED:20240523T220229
SUMMARY:Stad programma
LOCATION:H.K. aan de Visdonkseweg 1A (4707 PE Roosendaal).
URL;VALUE=URI:https://mail.scoutingstjan.nl/index.php/agenda/evenementdetail/344/-/stad-p
 rogramma?tmpl=component
DESCRIPTION:Zaterdag, 25 mei, draaien we met alle leden van 13.00 tot 15.30 in de stad.
 \nWe openen en sluiten op het Tongerloplein voor de Kring.\nDe reguliere dr
 aaitijden komen hiermee te vervallen.\nGraag zien we jullie in compleet uni
 form (met das) om 13.00 op het Tongerloplein.\n This event was imported fro
 m: https://mail.scoutingstjan.nl/index.php/agenda/evenementdetail/344/-/sta
 d-programma?tmpl=component (https://mail.scoutingstjan.nl/index.php/agenda/
 evenementdetail/344/-/stad-programma?tmpl=component)
X-ALT-DESC;FMTTYPE=text/html:<p>Zaterdag, 25 mei, draaien we met alle leden van 13.00 tot 15.30 in de st
 ad.</p><p>We openen en sluiten op het Tongerloplein voor de Kring.</p><p>De
  reguliere draaitijden komen hiermee te vervallen.</p><p>Graag zien we jull
 ie in compleet uniform (met das) om 13.00 op het Tongerloplein.</p> <a href
 ="https://mail.scoutingstjan.nl/index.php/agenda/evenementdetail/344/-/stad
 -programma?tmpl=component">This event was imported from: https://mail.scout
 ingstjan.nl/index.php/agenda/evenementdetail/344/-/stad-programma?tmpl=comp
 onent</a>X-EXTRAINFO:Brieven (/index.php/downloads/category/5-brieven)\nBrieven vind je hier (mi
 ts ingelogd)
DTSTAMP:20260423T143415
DTSTART;TZID=Europe/Amsterdam:20240525T130000
DTEND;TZID=Europe/Amsterdam:20240525T153000
SEQUENCE:0
TRANSP:OPAQUE
END:VEVENT
END:VCALENDAR