BEGIN:VCALENDAR
VERSION:2.0
PRODID:-//jEvents 2.0 for Joomla//EN
CALSCALE:GREGORIAN
METHOD:PUBLISH
BEGIN:VTIMEZONE
TZID:Europe/Amsterdam
BEGIN:STANDARD
DTSTART:20231029T020000
RDATE:20240331T030000
TZOFFSETFROM:+0200
TZOFFSETTO:+0100
TZNAME:Europe/Amsterdam CET
END:STANDARD
BEGIN:STANDARD
DTSTART:20241027T020000
RDATE:20250330T030000
TZOFFSETFROM:+0200
TZOFFSETTO:+0100
TZNAME:Europe/Amsterdam CET
END:STANDARD
BEGIN:STANDARD
DTSTART:20251026T020000
RDATE:20260329T030000
TZOFFSETFROM:+0200
TZOFFSETTO:+0100
TZNAME:Europe/Amsterdam CET
END:STANDARD
BEGIN:STANDARD
DTSTART:20261025T020000
RDATE:20270328T030000
TZOFFSETFROM:+0200
TZOFFSETTO:+0100
TZNAME:Europe/Amsterdam CET
END:STANDARD
BEGIN:STANDARD
DTSTART:20271031T020000
RDATE:20280326T030000
TZOFFSETFROM:+0200
TZOFFSETTO:+0100
TZNAME:Europe/Amsterdam CET
END:STANDARD
BEGIN:STANDARD
DTSTART:20281029T020000
RDATE:20290325T030000
TZOFFSETFROM:+0200
TZOFFSETTO:+0100
TZNAME:Europe/Amsterdam CET
END:STANDARD
BEGIN:DAYLIGHT
DTSTART:20230531T190000
RDATE:20231029T020000
TZOFFSETFROM:+0100
TZOFFSETTO:+0200
TZNAME:Europe/Amsterdam CEST
END:DAYLIGHT
BEGIN:DAYLIGHT
DTSTART:20240331T030000
RDATE:20241027T020000
TZOFFSETFROM:+0100
TZOFFSETTO:+0200
TZNAME:Europe/Amsterdam CEST
END:DAYLIGHT
BEGIN:DAYLIGHT
DTSTART:20250330T030000
RDATE:20251026T020000
TZOFFSETFROM:+0100
TZOFFSETTO:+0200
TZNAME:Europe/Amsterdam CEST
END:DAYLIGHT
BEGIN:DAYLIGHT
DTSTART:20260329T030000
RDATE:20261025T020000
TZOFFSETFROM:+0100
TZOFFSETTO:+0200
TZNAME:Europe/Amsterdam CEST
END:DAYLIGHT
BEGIN:DAYLIGHT
DTSTART:20270328T030000
RDATE:20271031T020000
TZOFFSETFROM:+0100
TZOFFSETTO:+0200
TZNAME:Europe/Amsterdam CEST
END:DAYLIGHT
BEGIN:DAYLIGHT
DTSTART:20280326T030000
RDATE:20281029T020000
TZOFFSETFROM:+0100
TZOFFSETTO:+0200
TZNAME:Europe/Amsterdam CEST
END:DAYLIGHT
END:VTIMEZONE
BEGIN:VEVENT
UID:1c414969159be062f312e482b56880e0
CATEGORIES:Luchtverkenners
CREATED:20240523T220932
SUMMARY:voorbeeld
LOCATION:H.K. aan de Visdonkseweg 1A (4707 PE Roosendaal).
URL;VALUE=URI:https://mail.scoutingstjan.nl/index.php/agenda/evenementdetail/345/-/voorbe
 eld?tmpl=component
DESCRIPTION:Voor het eerste voorjaarsweekend van de luchtverkenners hebben we het label
 terrein van scouting Nederland Buitenlust te Bergen op Zoom uitgekozen.\nHe
 t weekend zal worden gehouden van vrijdag 31 mei tot en met zondag 2 juni.\
 nWe verwachten de luchtverkenners vrijdagavond om 19.00 uur op ons H.K. van
 af waar we gezamenlijk vertrekken naar Bergen op Zoom.\nZondags sluiten we 
 om 12.00 uur in Bergen op Zoom weer af, om gezamenlijk terug te rijden.\n T
 his event was imported from: https://mail.scoutingstjan.nl/index.php/agenda
 /evenementdetail/345/-/voorbeeld?tmpl=component (https://mail.scoutingstjan
 .nl/index.php/agenda/evenementdetail/345/-/voorbeeld?tmpl=component)
X-ALT-DESC;FMTTYPE=text/html:<p>Voor het eerste voorjaarsweekend van de luchtverkenners hebben we het la
 belterrein van scouting Nederland Buitenlust te Bergen op Zoom uitgekozen.<
 /p><p>Het weekend zal worden gehouden van vrijdag 31 mei tot en met zondag 
 2 juni.</p><p>We verwachten de luchtverkenners vrijdagavond om 19.00 uur op
  ons H.K. vanaf waar we gezamenlijk vertrekken naar Bergen op Zoom.</p><p>Z
 ondags sluiten we om 12.00 uur in Bergen op Zoom weer af, om gezamenlijk te
 rug te rijden.</p> <a href="https://mail.scoutingstjan.nl/index.php/agenda/
 evenementdetail/345/-/voorbeeld?tmpl=component">This event was imported fro
 m: https://mail.scoutingstjan.nl/index.php/agenda/evenementdetail/345/-/voo
 rbeeld?tmpl=component</a>X-EXTRAINFO:Brieven (/index.php/downloads/category/5-brieven)\nBrieven vind je hier (mi
 ts ingelogd)
DTSTAMP:20260423T134713
DTSTART;TZID=Europe/Amsterdam:20240531T190000
DTEND;TZID=Europe/Amsterdam:20240602T120000
SEQUENCE:0
TRANSP:OPAQUE
END:VEVENT
END:VCALENDAR