BEGIN:VCALENDAR
VERSION:2.0
PRODID:-//jEvents 2.0 for Joomla//EN
CALSCALE:GREGORIAN
METHOD:PUBLISH
BEGIN:VTIMEZONE
TZID:Europe/Amsterdam
BEGIN:STANDARD
DTSTART:20241027T020000
RDATE:20250330T030000
TZOFFSETFROM:+0200
TZOFFSETTO:+0100
TZNAME:Europe/Amsterdam CET
END:STANDARD
BEGIN:STANDARD
DTSTART:20251026T020000
RDATE:20260329T030000
TZOFFSETFROM:+0200
TZOFFSETTO:+0100
TZNAME:Europe/Amsterdam CET
END:STANDARD
BEGIN:STANDARD
DTSTART:20261025T020000
RDATE:20270328T030000
TZOFFSETFROM:+0200
TZOFFSETTO:+0100
TZNAME:Europe/Amsterdam CET
END:STANDARD
BEGIN:STANDARD
DTSTART:20271031T020000
RDATE:20280326T030000
TZOFFSETFROM:+0200
TZOFFSETTO:+0100
TZNAME:Europe/Amsterdam CET
END:STANDARD
BEGIN:STANDARD
DTSTART:20281029T020000
RDATE:20290325T030000
TZOFFSETFROM:+0200
TZOFFSETTO:+0100
TZNAME:Europe/Amsterdam CET
END:STANDARD
BEGIN:DAYLIGHT
DTSTART:20240918T000000
RDATE:20241027T020000
TZOFFSETFROM:+0100
TZOFFSETTO:+0200
TZNAME:Europe/Amsterdam CEST
END:DAYLIGHT
BEGIN:DAYLIGHT
DTSTART:20250330T030000
RDATE:20251026T020000
TZOFFSETFROM:+0100
TZOFFSETTO:+0200
TZNAME:Europe/Amsterdam CEST
END:DAYLIGHT
BEGIN:DAYLIGHT
DTSTART:20260329T030000
RDATE:20261025T020000
TZOFFSETFROM:+0100
TZOFFSETTO:+0200
TZNAME:Europe/Amsterdam CEST
END:DAYLIGHT
BEGIN:DAYLIGHT
DTSTART:20270328T030000
RDATE:20271031T020000
TZOFFSETFROM:+0100
TZOFFSETTO:+0200
TZNAME:Europe/Amsterdam CEST
END:DAYLIGHT
BEGIN:DAYLIGHT
DTSTART:20280326T030000
RDATE:20281029T020000
TZOFFSETFROM:+0100
TZOFFSETTO:+0200
TZNAME:Europe/Amsterdam CEST
END:DAYLIGHT
END:VTIMEZONE
BEGIN:VEVENT
UID:92f64db8adbaa27fa05dd32460cc99a4
CATEGORIES:Algemeen
CREATED:20241225T113032
SUMMARY:Groepsweekend
URL;VALUE=URI:https://mail.scoutingstjan.nl/index.php/agenda/evenementdetail/388/-/groeps
 weekend?tmpl=component
DESCRIPTION: This event was imported from: https://mail.scoutingstjan.nl/index.php/agen
 da/evenementdetail/388/-/groepsweekend?tmpl=component (https://mail.scoutin
 gstjan.nl/index.php/agenda/evenementdetail/388/-/groepsweekend?tmpl=compone
 nt)
X-ALT-DESC;FMTTYPE=text/html: <a href="https://mail.scoutingstjan.nl/index.php/agenda/evenementdetail/38
 8/-/groepsweekend?tmpl=component">This event was imported from: https://mai
 l.scoutingstjan.nl/index.php/agenda/evenementdetail/388/-/groepsweekend?tmp
 l=component</a>DTSTAMP:20260421T034318
DTSTART;TZID=Europe/Amsterdam;VALUE=DATE:20250919
DTEND;TZID=Europe/Amsterdam;VALUE=DATE:20250922
SEQUENCE:0
TRANSP:OPAQUE
END:VEVENT
END:VCALENDAR