BEGIN:VCALENDAR
VERSION:2.0
PRODID:-//jEvents 2.0 for Joomla//EN
CALSCALE:GREGORIAN
METHOD:PUBLISH
BEGIN:VTIMEZONE
TZID:Europe/Amsterdam
BEGIN:STANDARD
DTSTART:20241027T020000
RDATE:20250330T030000
TZOFFSETFROM:+0200
TZOFFSETTO:+0100
TZNAME:Europe/Amsterdam CET
END:STANDARD
BEGIN:STANDARD
DTSTART:20251026T020000
RDATE:20260329T030000
TZOFFSETFROM:+0200
TZOFFSETTO:+0100
TZNAME:Europe/Amsterdam CET
END:STANDARD
BEGIN:STANDARD
DTSTART:20261025T020000
RDATE:20270328T030000
TZOFFSETFROM:+0200
TZOFFSETTO:+0100
TZNAME:Europe/Amsterdam CET
END:STANDARD
BEGIN:STANDARD
DTSTART:20271031T020000
RDATE:20280326T030000
TZOFFSETFROM:+0200
TZOFFSETTO:+0100
TZNAME:Europe/Amsterdam CET
END:STANDARD
BEGIN:STANDARD
DTSTART:20281029T020000
RDATE:20290325T030000
TZOFFSETFROM:+0200
TZOFFSETTO:+0100
TZNAME:Europe/Amsterdam CET
END:STANDARD
BEGIN:DAYLIGHT
DTSTART:20240515T200000
RDATE:20241027T020000
TZOFFSETFROM:+0100
TZOFFSETTO:+0200
TZNAME:Europe/Amsterdam CEST
END:DAYLIGHT
BEGIN:DAYLIGHT
DTSTART:20250330T030000
RDATE:20251026T020000
TZOFFSETFROM:+0100
TZOFFSETTO:+0200
TZNAME:Europe/Amsterdam CEST
END:DAYLIGHT
BEGIN:DAYLIGHT
DTSTART:20260329T030000
RDATE:20261025T020000
TZOFFSETFROM:+0100
TZOFFSETTO:+0200
TZNAME:Europe/Amsterdam CEST
END:DAYLIGHT
BEGIN:DAYLIGHT
DTSTART:20270328T030000
RDATE:20271031T020000
TZOFFSETFROM:+0100
TZOFFSETTO:+0200
TZNAME:Europe/Amsterdam CEST
END:DAYLIGHT
BEGIN:DAYLIGHT
DTSTART:20280326T030000
RDATE:20281029T020000
TZOFFSETFROM:+0100
TZOFFSETTO:+0200
TZNAME:Europe/Amsterdam CEST
END:DAYLIGHT
END:VTIMEZONE
BEGIN:VEVENT
UID:69d25f64c4649d80edbf7999dfe29fec
CATEGORIES:Kabouters
CREATED:20250405T081823
SUMMARY:Ouder kind kamp kabouters
LOCATION:H.K. aan de Visdonkseweg 1A (4707 PE Roosendaal).
URL;VALUE=URI:https://mail.scoutingstjan.nl/index.php/agenda/evenementdetail/412/-/ouder-
 kind-kamp-kabouters?tmpl=component
DESCRIPTION:In het weekend van vrijdag 16 mei tot en met zondag 18 mei organiseren wij 
 voor de kabouters een Ouder-Kindkamp, waarbij de kabouters en één van hun o
 uders een weekend op kamp gaan. Super tof!\nOp vrijdagavond worden de kabou
 ters en ouders verwacht om 20:00u op de locatie. Op zondag 18 mei wordt er 
 gezamenlijk afgesloten om 11:30u.\n This event was imported from: https://m
 ail.scoutingstjan.nl/index.php/agenda/evenementdetail/412/-/ouder-kind-kamp
 -kabouters?tmpl=component
X-ALT-DESC;FMTTYPE=text/html:<p>In het weekend van vrijdag 16 mei tot en met zondag 18 mei organiseren w
 ij voor de kabouters een Ouder-Kindkamp, waarbij de kabouters en één van hu
 n ouders een weekend op kamp gaan. Super tof!<br />Op vrijdagavond worden d
 e kabouters en ouders verwacht om 20:00u op de locatie. Op zondag 18 mei wo
 rdt er gezamenlijk afgesloten om 11:30u.</p> <a href="https://mail.scouting
 stjan.nl/index.php/agenda/evenementdetail/412/-/ouder-kind-kamp-kabouters?t
 mpl=component">This event was imported from: https://mail.scoutingstjan.nl/
 index.php/agenda/evenementdetail/412/-/ouder-kind-kamp-kabouters?tmpl=compo
 nent</a>X-EXTRAINFO:Brieven (/index.php/downloads/category/5-brieven)\nBrieven vind je hier (mi
 ts ingelogd)
DTSTAMP:20260420T222547
DTSTART;TZID=Europe/Amsterdam:20250516T200000
DTEND;TZID=Europe/Amsterdam:20250518T113000
SEQUENCE:0
TRANSP:OPAQUE
END:VEVENT
END:VCALENDAR