BEGIN:VCALENDAR
VERSION:2.0
PRODID:-//jEvents 2.0 for Joomla//EN
CALSCALE:GREGORIAN
METHOD:PUBLISH
BEGIN:VTIMEZONE
TZID:Europe/Amsterdam
BEGIN:STANDARD
DTSTART:20241027T020000
RDATE:20250330T030000
TZOFFSETFROM:+0200
TZOFFSETTO:+0100
TZNAME:Europe/Amsterdam CET
END:STANDARD
BEGIN:STANDARD
DTSTART:20251026T020000
RDATE:20260329T030000
TZOFFSETFROM:+0200
TZOFFSETTO:+0100
TZNAME:Europe/Amsterdam CET
END:STANDARD
BEGIN:STANDARD
DTSTART:20261025T020000
RDATE:20270328T030000
TZOFFSETFROM:+0200
TZOFFSETTO:+0100
TZNAME:Europe/Amsterdam CET
END:STANDARD
BEGIN:STANDARD
DTSTART:20271031T020000
RDATE:20280326T030000
TZOFFSETFROM:+0200
TZOFFSETTO:+0100
TZNAME:Europe/Amsterdam CET
END:STANDARD
BEGIN:STANDARD
DTSTART:20281029T020000
RDATE:20290325T030000
TZOFFSETFROM:+0200
TZOFFSETTO:+0100
TZNAME:Europe/Amsterdam CET
END:STANDARD
BEGIN:DAYLIGHT
DTSTART:20240605T190000
RDATE:20241027T020000
TZOFFSETFROM:+0100
TZOFFSETTO:+0200
TZNAME:Europe/Amsterdam CEST
END:DAYLIGHT
BEGIN:DAYLIGHT
DTSTART:20250330T030000
RDATE:20251026T020000
TZOFFSETFROM:+0100
TZOFFSETTO:+0200
TZNAME:Europe/Amsterdam CEST
END:DAYLIGHT
BEGIN:DAYLIGHT
DTSTART:20260329T030000
RDATE:20261025T020000
TZOFFSETFROM:+0100
TZOFFSETTO:+0200
TZNAME:Europe/Amsterdam CEST
END:DAYLIGHT
BEGIN:DAYLIGHT
DTSTART:20270328T030000
RDATE:20271031T020000
TZOFFSETFROM:+0100
TZOFFSETTO:+0200
TZNAME:Europe/Amsterdam CEST
END:DAYLIGHT
BEGIN:DAYLIGHT
DTSTART:20280326T030000
RDATE:20281029T020000
TZOFFSETFROM:+0100
TZOFFSETTO:+0200
TZNAME:Europe/Amsterdam CEST
END:DAYLIGHT
END:VTIMEZONE
BEGIN:VEVENT
UID:a9cf5bbfc193de7bbc7e9bc43909ddc7
CATEGORIES:Luchtverkenners
CREATED:20250524T111755
SUMMARY:Vader-zoon-weekend Luchtverkenners
LOCATION:H.K. aan de Visdonkseweg 1A (4707 PE Roosendaal).
URL;VALUE=URI:https://mail.scoutingstjan.nl/index.php/agenda/evenementdetail/413/-/vader-
 zoon-weekend-luchtverkenners?tmpl=component
DESCRIPTION:<p>De luchtverkenners gaan op vaderzoonweekend naar Buitenlust het labelter
 rein van scouting Nederland te Bergen op Zoom.<br />Het weekend zal worden 
 gehouden van vrijdag 6 tot en met zondag 8 juni.<br />We verwachten de luch
 tverkenners &amp; vaders vrijdag avond om 19.00 uur op ons H.K. vanaf we ge
 zamenlijk vetrekken naar Bergen op Zoom.<br />Zondags sluiten de luchtverke
 nners &amp; vaders om 12.00 uur in Bergen op Zoom weer af, om gezamenlijk t
 erug te rijden.</p> <a href="https://mail.scoutingstjan.nl/index.php/agenda
 /evenementdetail/413/-/vader-zoon-weekend-luchtverkenners?tmpl=component">T
 his event was imported from: https://mail.scoutingstjan.nl/index.php/agenda
 /evenementdetail/413/-/vader-zoon-weekend-luchtverkenners?tmpl=component</a
 >X-EXTRAINFO:Brieven (/index.php/downloads/category/5-brieven)\nBrieven vind je hier (mi
 ts ingelogd)
DTSTAMP:20260421T003549
DTSTART;TZID=Europe/Amsterdam:20250606T190000
DTEND;TZID=Europe/Amsterdam:20250608T120000
SEQUENCE:0
TRANSP:OPAQUE
END:VEVENT
END:VCALENDAR