BEGIN:VCALENDAR
VERSION:2.0
PRODID:-//jEvents 2.0 for Joomla//EN
CALSCALE:GREGORIAN
METHOD:PUBLISH
BEGIN:VTIMEZONE
TZID:Europe/Amsterdam
BEGIN:STANDARD
DTSTART:20251026T020000
RDATE:20260329T030000
TZOFFSETFROM:+0200
TZOFFSETTO:+0100
TZNAME:Europe/Amsterdam CET
END:STANDARD
BEGIN:STANDARD
DTSTART:20261025T020000
RDATE:20270328T030000
TZOFFSETFROM:+0200
TZOFFSETTO:+0100
TZNAME:Europe/Amsterdam CET
END:STANDARD
BEGIN:STANDARD
DTSTART:20271031T020000
RDATE:20280326T030000
TZOFFSETFROM:+0200
TZOFFSETTO:+0100
TZNAME:Europe/Amsterdam CET
END:STANDARD
BEGIN:STANDARD
DTSTART:20281029T020000
RDATE:20290325T030000
TZOFFSETFROM:+0200
TZOFFSETTO:+0100
TZNAME:Europe/Amsterdam CET
END:STANDARD
BEGIN:DAYLIGHT
DTSTART:20250710T000000
RDATE:20251026T020000
TZOFFSETFROM:+0100
TZOFFSETTO:+0200
TZNAME:Europe/Amsterdam CEST
END:DAYLIGHT
BEGIN:DAYLIGHT
DTSTART:20260329T030000
RDATE:20261025T020000
TZOFFSETFROM:+0100
TZOFFSETTO:+0200
TZNAME:Europe/Amsterdam CEST
END:DAYLIGHT
BEGIN:DAYLIGHT
DTSTART:20270328T030000
RDATE:20271031T020000
TZOFFSETFROM:+0100
TZOFFSETTO:+0200
TZNAME:Europe/Amsterdam CEST
END:DAYLIGHT
BEGIN:DAYLIGHT
DTSTART:20280326T030000
RDATE:20281029T020000
TZOFFSETFROM:+0100
TZOFFSETTO:+0200
TZNAME:Europe/Amsterdam CEST
END:DAYLIGHT
END:VTIMEZONE
BEGIN:VEVENT
UID:6812eeaa5838892da99408915686999b
CATEGORIES:Algemeen
CREATED:20260107T194221
SUMMARY:Zomerkamp
URL;VALUE=URI:https://mail.scoutingstjan.nl/index.php/agenda/evenementdetail/458/-/zomerk
 amp?tmpl=component
DESCRIPTION: This event was imported from: https://mail.scoutingstjan.nl/index.php/agen
 da/evenementdetail/458/-/zomerkamp?tmpl=component (https://mail.scoutingstj
 an.nl/index.php/agenda/evenementdetail/458/-/zomerkamp?tmpl=component)
X-ALT-DESC;FMTTYPE=text/html: <a href="https://mail.scoutingstjan.nl/index.php/agenda/evenementdetail/45
 8/-/zomerkamp?tmpl=component">This event was imported from: https://mail.sc
 outingstjan.nl/index.php/agenda/evenementdetail/458/-/zomerkamp?tmpl=compon
 ent</a>DTSTAMP:20260420T124759
DTSTART;TZID=Europe/Amsterdam;VALUE=DATE:20260711
DTEND;TZID=Europe/Amsterdam;VALUE=DATE:20260719
SEQUENCE:0
TRANSP:OPAQUE
END:VEVENT
END:VCALENDAR