BEGIN:VCALENDAR
VERSION:2.0
PRODID:-//jEvents 2.0 for Joomla//EN
CALSCALE:GREGORIAN
METHOD:PUBLISH
BEGIN:VTIMEZONE
TZID:Europe/Amsterdam
BEGIN:STANDARD
DTSTART:20251127T000000
RDATE:20260329T030000
TZOFFSETFROM:+0200
TZOFFSETTO:+0100
TZNAME:Europe/Amsterdam CET
END:STANDARD
BEGIN:STANDARD
DTSTART:20261025T020000
RDATE:20270328T030000
TZOFFSETFROM:+0200
TZOFFSETTO:+0100
TZNAME:Europe/Amsterdam CET
END:STANDARD
BEGIN:STANDARD
DTSTART:20271031T020000
RDATE:20280326T030000
TZOFFSETFROM:+0200
TZOFFSETTO:+0100
TZNAME:Europe/Amsterdam CET
END:STANDARD
BEGIN:STANDARD
DTSTART:20281029T020000
RDATE:20290325T030000
TZOFFSETFROM:+0200
TZOFFSETTO:+0100
TZNAME:Europe/Amsterdam CET
END:STANDARD
BEGIN:DAYLIGHT
DTSTART:20260329T030000
RDATE:20261025T020000
TZOFFSETFROM:+0100
TZOFFSETTO:+0200
TZNAME:Europe/Amsterdam CEST
END:DAYLIGHT
BEGIN:DAYLIGHT
DTSTART:20270328T030000
RDATE:20271031T020000
TZOFFSETFROM:+0100
TZOFFSETTO:+0200
TZNAME:Europe/Amsterdam CEST
END:DAYLIGHT
BEGIN:DAYLIGHT
DTSTART:20280326T030000
RDATE:20281029T020000
TZOFFSETFROM:+0100
TZOFFSETTO:+0200
TZNAME:Europe/Amsterdam CEST
END:DAYLIGHT
END:VTIMEZONE
BEGIN:VEVENT
UID:a179962ca971f9d2e62b84a7f2bec47d
CATEGORIES:Bevers
CREATED:20260107T194221
SUMMARY:Sinterklaasviering
LOCATION:H.K.
URL;VALUE=URI:https://mail.scoutingstjan.nl/index.php/agenda/evenementdetail/476/-/sinter
 klaasviering?tmpl=component
DESCRIPTION: <a href="https://mail.scoutingstjan.nl/index.php/agenda/evenementdetail/47
 6/-/sinterklaasviering?tmpl=component">This event was imported from: https:
 //mail.scoutingstjan.nl/index.php/agenda/evenementdetail/476/-/sinterklaasv
 iering?tmpl=component</a>DTSTAMP:20260420T125218
DTSTART;TZID=Europe/Amsterdam;VALUE=DATE:20261128
DTEND;TZID=Europe/Amsterdam;VALUE=DATE:20261129
SEQUENCE:0
TRANSP:OPAQUE
END:VEVENT
END:VCALENDAR